BEGIN:VCALENDAR
PRODID:-//eluceo/ical//2.0/EN
VERSION:2.0
CALSCALE:GREGORIAN
BEGIN:VEVENT
UID:86a2cfc2b6c94b006478e4ed236af026
DTSTAMP:20260423T193457Z
SUMMARY:24th China International Fair for Investment & Trade
DESCRIPTION:Název akce: 24th China International Fair for Investment & Tra
 de\nURL: https://www.spcr.cz/24th-china-international-fair-investment-trad
 e\nPopis: \n\nThe 24th China International Fair for Investment & T
 rade will  be held in Xiamen from  8th to 11th Sept\, 2024.\nThe
  24th CIFIT is scheduled to be held in Xiamen during Sept. 8th- 11th\, 2
 024. It is hosted by the Ministry of Commerce of the People’s Republic 
 of China. It is a comprehensive of bilateral investment promotion\, aut
 horitative information release and investment trend discussion with exhi
 bition\, forums and seminars\, B2B matchmaking and online CIFIT.The CIFIT 
 Organizing Committee sincerely welcomes investment promotion agencies\, 
 chambers of commerce\, industrial associations\, multinational corporatio
 ns and renowned companies worldwide to the grand platform and share busine
 ss opportunities.\nFor registration or the latest information\, please lo
 g on the website:\nwww.chinafair.org.cn\nOperation & Liaison Department of
  CIFIT Organizing Committee\nTel:+86-592-2859824/ 2859966\nEmail: shansha
 nz@chinafair.org.cn\njane@chinafair.org.cn\ncifit@chinafair.org.cn\n
URL:https://www.spcr.cz/24th-china-international-fair-investment-trade
DTSTART:20240908T000000
DTEND:20240911T235959
LOCATION:
END:VEVENT
END:VCALENDAR
