BEGIN:VCALENDAR
PRODID:-//eluceo/ical//2.0/EN
VERSION:2.0
CALSCALE:GREGORIAN
BEGIN:VEVENT
UID:1096f70aec7809f5e9f87e1ff4514ac4
DTSTAMP:20260423T145940Z
SUMMARY:Japan Aerospace 2024
DESCRIPTION:Název akce: Japan Aerospace 2024\nURL: https://www.spcr.cz/jap
 an-aerospace-2024\nPopis: \n\nAgentura CzechTrade\, Velvyslanectví ČR v 
 Tokiu a Ministerstvo průmyslu a obchodu zvou české firmy k účasti ve 
 společné expozici na veletrhu Japan International Aerospace Exhibition 2
 024.\nPo osmi letech se v Tokiu opět koná největší všeobecná leteck
 á výstava Japonska – Japan Aerospace. Kvůli pandemii Covid-19 se výs
 tava dlouhou dobu nemohla uskutečnit\, což činí letošní událost je
 ště více očekávanou.\nSejdou se tu hlavní japonské a zahraniční s
 polečnosti\, vládní agentury\, zástupci ambasád a hráči z průmyslu
 . Výstava pokrývá širokou škálu oblastí\, jako jsou výroba\, provo
 z a údržba (MRO) pro letectví\, kosmonautiku a obranné technologie\, s
 tejně jako nové oblasti\, mezi kterými nechybí městská letecká mobi
 lita (UAM) nebo dekarbonizace.\nÚčastníci budou mít jedinečnou příl
 ežitost vidět nejmodernější produkty a technologie na vlastní oči. 
 Akce začne obchodními dny 16. až 18. října výhradně pro profesioná
 ly a 19. října se výstava otevře i široké veřejnosti. Organizátoř
 i The Society of Japanese Aerospace Companies (SJAC) a Tokyo Big Sight sli
 bují pestrý program a bohatou nabídku inovací\, které posouvají hran
 ice v oblasti letectví a kosmonautiky.\nVíce informací k připravované
  akci naleznete zde. \n
URL:https://www.spcr.cz/japan-aerospace-2024
DTSTART:20241016T000000
DTEND:20241019T235959
LOCATION:
END:VEVENT
END:VCALENDAR
