BEGIN:VCALENDAR
PRODID:-//eluceo/ical//2.0/EN
VERSION:2.0
CALSCALE:GREGORIAN
BEGIN:VEVENT
UID:427261cb5ca7ca07cd4d58cf39e11bd9
DTSTAMP:20260423T125537Z
SUMMARY:Mezinárodní veletrh v Peru - EXPO PESCA & ACUIPERU
DESCRIPTION:Název akce: Mezinárodní veletrh v Peru - EXPO PESCA & ACUIPE
 RU\nURL: https://www.spcr.cz/mezinarodni-veletrh-v-peru-expo-pesca-acuiper
 u\nPopis: \n\nDovolujeme si Vám předat pozvání na mezinárodní veletr
 h rybářství a akvakultury. Největší latinskoamerická akce zaměřen
 á na rybářské a akvakulturní vybavení\, potřeby a služby. Budou zd
 e prezentována plavidla\, vybavení na lov\, pěstování\, chlazení\, z
 pracování\, distribuci atd.Podrobné informace naleznete na tomto odkaz
 e.\n
URL:https://www.spcr.cz/mezinarodni-veletrh-v-peru-expo-pesca-acuiperu
DTSTART:20250903T080000
DTEND:20250906T235900
LOCATION:
END:VEVENT
END:VCALENDAR
