BEGIN:VCALENDAR
PRODID:-//eluceo/ical//2.0/EN
VERSION:2.0
CALSCALE:GREGORIAN
BEGIN:VEVENT
UID:a66efd3a1ece74a85148857bbfcf8bf0
DTSTAMP:20260423T124856Z
SUMMARY:Veletrh - TEXMODA PERÚ
DESCRIPTION:Název akce: Veletrh - TEXMODA PERÚ\nURL: https://www.spcr.cz/
 veletrh-texmoda-peru\nPopis: \n\nDovolujeme si Vám předat pozvání na v
 eletrh dodavatelů a výrobců oděvního průmyslu v hlavním městě Per
 u Limě. \nPodrobné informace naleznete na tomto odkaze.\n
URL:https://www.spcr.cz/veletrh-texmoda-peru
DTSTART:20241107T080000
DTEND:20241111T235959
LOCATION:
END:VEVENT
END:VCALENDAR
