BEGIN:VCALENDAR
PRODID:-//eluceo/ical//2.0/EN
VERSION:2.0
CALSCALE:GREGORIAN
BEGIN:VEVENT
UID:798e25824a20f3ad511cadc51777a85f
DTSTAMP:20260423T150133Z
SUMMARY:Mezinárodní veletrh - EXPOTEXTIL PERÚ
DESCRIPTION:Název akce: Mezinárodní veletrh - EXPOTEXTIL PERÚ\nURL: htt
 ps://www.spcr.cz/mezinarodni-veletrh-expotextil-peru\nPopis: \n\nDovolujem
 e si Vám předat pozvání na mezinárodní veletrh dodavatelů pro texti
 lní a oděvní průmysl v hlavním městě Peru Limě.\nPodrobné informa
 ce naleznete na tomto odkaze.\n
URL:https://www.spcr.cz/mezinarodni-veletrh-expotextil-peru
DTSTART:20241107T080000
DTEND:20241111T170000
LOCATION:
END:VEVENT
END:VCALENDAR
