BEGIN:VCALENDAR
PRODID:-//eluceo/ical//2.0/EN
VERSION:2.0
CALSCALE:GREGORIAN
BEGIN:VEVENT
UID:1e3cc3c0bf0e49f1f3bebf0ab195b2d5
DTSTAMP:20260423T162942Z
SUMMARY:Mezinárodní výstava a konference - EXPOCOBRE PERU
DESCRIPTION:Název akce: Mezinárodní výstava a konference - EXPOCOBRE PE
 RU\nURL: https://www.spcr.cz/mezinarodni-vystava-konference-expocobre-peru
 \nPopis: \n\nDovolujeme si Vám předat pozvání na mezinárodní výstav
 u a konferenci o technologiích a strojích pro těžební průmysl mědi.
  \nPodrobné informace naleznete na tomto odkaze.\n
URL:https://www.spcr.cz/mezinarodni-vystava-konference-expocobre-peru
DTSTART:20241028T000000
DTEND:20241028T235959
LOCATION:
END:VEVENT
END:VCALENDAR
