BEGIN:VCALENDAR
PRODID:-//eluceo/ical//2.0/EN
VERSION:2.0
CALSCALE:GREGORIAN
BEGIN:VEVENT
UID:a0dbb5db2fab5032a4dff310b13962c4
DTSTAMP:20260423T192600Z
SUMMARY:2024 Taiwan International Water Week
DESCRIPTION:Název akce: 2024 Taiwan International Water Week\nURL: https:/
 /www.spcr.cz/2024-taiwan-international-water-week\nPopis: \n\nDovolujeme s
 i Vám předat pozvání Tchajpejské hospodářské a kulturní kancelá
 ře v Praze\, na mezinárodní veletrh 2024 Taiwan International Water Wee
 k (TIWW)\, který se bude konat v Taipei Nangang Exhibition Center od 11. 
 do 13. září 2024. Tento veletrh je jedinou odbornou B2B výstavou v obl
 asti vodního průmyslu na Tchaj-wanu. TIWW nabízí jedinečnou a výjime
 čnou platformu pro odborníky z praxe\, experty a odběratele z globáln
 ího vodohospodářského průmyslu\, kde se mohou podělit o nejlepší i
 novativní řešení pro vodu\, představit nejnovější technologie a ob
 jevit obchodní příležitosti.\nNa TIWW budou letos k vidění tyto expo
 náty:\n\n· úprava vody\n· přeprava a skladování\n· vodní prostře
 dí a další služby\n· zařízení na čištění vody a pitnou vodu\n
 · automatizace\, řízení procesu a digitalizace\n\nAktuální informace
  naleznete na oficiálních webových stránkách: https://www.taiwanintlw
 aterweek.com/en/index.html\nNa podporu účasti na tomto veletrhu jsou nab
 ízeny následující pobídkové balíčky. Upozorňujeme\, že nabídky
  platí do vyčerpání finančního rozpočtu a balíčky jsou poskytová
 ny podle pořadí přijetí přihlášky.\nPro registraci a podání pobí
 dkové přihlášky vyplňte prosím přiložený formulář "company prof
 ile" a zašlete jej na emailovou adresu czech@sa.moea.gov.tw nebo cztwec01
 @sa.moea.gov.tw .\nPro další informace se využijte následující konta
 kt:\nTereza Šafářová\nEkonomické oddělení\nTchajpejská hospodářs
 ká a kulturní kancelář v Praze\nTel.: (+420) 234 722 021\n \n
URL:https://www.spcr.cz/2024-taiwan-international-water-week
DTSTART:20240911T000000
DTEND:20240911T235959
LOCATION:
END:VEVENT
END:VCALENDAR
