BEGIN:VCALENDAR
PRODID:-//eluceo/ical//2.0/EN
VERSION:2.0
CALSCALE:GREGORIAN
BEGIN:VEVENT
UID:54c65c0413bc6eb805551834283245ac
DTSTAMP:20260423T125029Z
SUMMARY:Mezinárodní veletrh - FIGAS PERU
DESCRIPTION:Název akce: Mezinárodní veletrh - FIGAS PERU\nURL: https://w
 ww.spcr.cz/mezinarodni-veletrh-figas-peru\nPopis: \n\nDovolujeme si Vám p
 ředat pozvání na mezinárodní veletrh zaměřený na plynový sektor. 
 Konkrétně se soustředí na zařízení\, dodávky a služby pro průmys
 lové\, bytové a automobilové plynárenství.\nPodrobné informace nalez
 nete na tomto odkaze.\n
URL:https://www.spcr.cz/mezinarodni-veletrh-figas-peru
DTSTART:20241023T000000
DTEND:20241023T235959
LOCATION:
END:VEVENT
END:VCALENDAR
