BEGIN:VCALENDAR
PRODID:-//eluceo/ical//2.0/EN
VERSION:2.0
CALSCALE:GREGORIAN
BEGIN:VEVENT
UID:ff7f8313f49341b2295b6d770e977258
DTSTAMP:20260423T162802Z
SUMMARY:Veletrh těžebního průmyslu v Peru - EXPOMINA
DESCRIPTION:Název akce: Veletrh těžebního průmyslu v Peru - EXPOMINA\n
 URL: https://www.spcr.cz/veletrh-tezebniho-prumyslu-v-peru-expomina\nPopis
 : \n\nDovolujeme si Vám předat pozvání na veletrh těžebního průmys
 lu v Peru EXPOMINA PERU. Tento veletrh sdružuje hlavní těžební dodava
 tele a mezinárodní delegace. Pro tisíce návštěvníků\, jejichž ú
 čast se očekává\, bude k vidění nejnovější strojní technika\, mo
 derní technologie a služby.\nPodrobné informace naleznete na tomto odk
 aze.\n
URL:https://www.spcr.cz/veletrh-tezebniho-prumyslu-v-peru-expomina
DTSTART:20240911T000000
DTEND:20240911T235959
LOCATION:
END:VEVENT
END:VCALENDAR
