BEGIN:VCALENDAR
PRODID:-//eluceo/ical//2.0/EN
VERSION:2.0
CALSCALE:GREGORIAN
BEGIN:VEVENT
UID:223dbb95e6febcbcf7dde5729c5d3c51
DTSTAMP:20260423T094833Z
SUMMARY:26th China Hi-Tech Fair
DESCRIPTION:Název akce: 26th China Hi-Tech Fair\nURL: https://www.spcr.cz/
 26th-china-hi-tech-fair\nPopis: \n\nThe Event is scheduled to be held on 1
 4-16 November 2024 in Shenzhen World Exhibition & Convention Center.\nChin
 a Hi-Tech Fair 2024 will comprehensively display the development trends of
  Chinese and foreign high-tech by hosting exhibitions\, conferences and ne
 tworking events. It mainly related to 11 high-growth industry sectors\, in
 cluding information technology\, new energy vehicles\, high-end equipment 
 manufacturing\, high-end medical care\, bio medicine\, specialization\, lo
 w-altitude economy\, semiconductors\, new materials\, energy conservation 
 and environmental protection\, green and low-carbon and other fields. The 
 conference program will cover China Hi-Tech Forum 2024\, technical seminar
 s\, new product launches\, country promotions and B2B meetings.\nThe invit
 ation letter can be downloaded here. \nFor more information\, contact:\nD
 onna Hau | International Business Department | Director\nM: +86 13641
 394297 E: hjn@zhenweiexpo.com\nAddress: 5th Floor\, Area C\, Shenzhen C
 ivic Center\, 3 Fuhua Road\, Futian District\, Shenzhen 518048\, China. \
 nWebsite: www.chtf.com \n
URL:https://www.spcr.cz/26th-china-hi-tech-fair
DTSTART:20241114T000000
DTEND:20241116T235959
LOCATION:
END:VEVENT
END:VCALENDAR
