BEGIN:VCALENDAR
PRODID:-//eluceo/ical//2.0/EN
VERSION:2.0
CALSCALE:GREGORIAN
BEGIN:VEVENT
UID:f1612425ec8405572c72640042f23703
DTSTAMP:20260423T172928Z
SUMMARY:Milipol Qatar 2024
DESCRIPTION:Název akce: Milipol Qatar 2024\nURL: https://www.spcr.cz/milip
 ol-qatar-2024\nPopis: \n\nAgentura CzechTrade zve české firmy k účasti
  na veletrhu Milipol Qatar 2024. Veletrh je zařazený mezi podporované a
 kce v projektu NOVUMM 2 spolufinancovaného z OP TAK - program Marketing. 
 Malé a střední podniky mohou čerpat podporu na svou prezentaci. Více 
 o podmínkách čtěte v sekci Programy EU\, OP TAK https://www.czechtrad
 e.cz/programy-eu/op-tak-%E2%80%93-projekty-novumm-2-a-novumm2ket/novumm\nV
 eletrh Milipol Qatar 2024 je světový veletrh konaný na Blízkém výcho
 dě zaměřený na bezpečnost a obranu.\nVíce informací k akci se dozv
 íte na webu CzechTrade. \n
URL:https://www.spcr.cz/milipol-qatar-2024
DTSTART:20241029T000000
DTEND:20241031T235959
LOCATION:
END:VEVENT
END:VCALENDAR
