BEGIN:VCALENDAR
PRODID:-//eluceo/ical//2.0/EN
VERSION:2.0
CALSCALE:GREGORIAN
BEGIN:VEVENT
UID:b54c37d865fe5414a34b1e8ff699b1fa
DTSTAMP:20260423T162941Z
SUMMARY:Vodíková mise do Německa & Hydrogen Technology Expo 2024
DESCRIPTION:Název akce: Vodíková mise do Německa & Hydrogen Technology 
 Expo 2024\nURL: https://www.spcr.cz/vodikova-mise-do-nemecka-hydrogen-tech
 nology-expo-2024\nPopis: \n\nAgentura CzechTrade a Velvyslanectvím Česk
 é republiky v Berlíně pořádají pro české firmy společnou účast 
 na vysoce specializované misi výrobců a dodavatelů pro vodíkové hosp
 odářství.\nSpolečně navštívíme konkrétní subjekty působící pr
 ávě v oblasti dodávek technologií pro vodohospodářství\, kde budou 
 probíhat jednání s managementem. Dále se účastníme světově nejv
 ětší oborové akce HYDROGEN TECHNOLOGY EXPO EUROPE v Hamburku. Tato akc
 e je zařazená mezi podporované Projekty ekonomické diplomacie (PROPED)
 .\nVodík má v Německu rostoucí význam jako klíčový prvek přechodu
  na udržitelnou energetiku a snižování emisí skleníkových plynů. N
 ěmecko se stává lídrem v oblasti vodíkových technologií a aktivně 
 investuje do výzkumu\, vývoje a vytvoření infrastruktury pro vodíkovo
 u výrobu\, skladování a distribuci.\nVíce informací k akci se dozvít
 e na webu CzechTrade. \n
URL:https://www.spcr.cz/vodikova-mise-do-nemecka-hydrogen-technology-expo-2
 024
DTSTART:20241022T000000
DTEND:20241024T235959
LOCATION:
END:VEVENT
END:VCALENDAR
