BEGIN:VCALENDAR
PRODID:-//eluceo/ical//2.0/EN
VERSION:2.0
CALSCALE:GREGORIAN
BEGIN:VEVENT
UID:ba17b39c67a31b69e58155c67c68bc84
DTSTAMP:20260423T125644Z
SUMMARY:65. Mezinárodní strojírenský veletrh
DESCRIPTION:Název akce: 65. Mezinárodní strojírenský veletrh\nURL: htt
 ps://www.spcr.cz/65-mezinarodni-strojirensky-veletrh\nPopis: \n\nMezináro
 dní strojírenský veletrh je nejvýznamnější průmyslový veletrh ve
  střední Evropě. Návštěvnost je vysoce odborná\, téměř osmdes
 át procent návštěvníků ovlivňuje rozhodování o investicích\, t
 řetina patří k vrcholovému managementu.\nZastoupeny jsou všechny kl
 íčové oblasti strojírenského a elektrotechnického průmyslu. Nosný
 m oborem je tradičně obrábění a tváření.\nHlavním tématem MSV 
 je Průmysl 4.0 a digitální továrna\, tedy digitalizace výroby\, jed
 en z hlavních směrů inovačního procesu. Mezi další zvýrazněná t
 émata patří cirkulární ekonomika – nakládání s materiálními z
 droji. Jde o trend\, který je jednou z prioritních oblastí udržite
 lného rozvoje\, a adaptace průmyslu a obchodu se bude ubírat právě
  tímto směrem.\nSoučástí veletrhu je špičkový doprovodný program
  složený z odborných konferencí\, seminářů a workshopů na aktu
 ální technická\, obchodní a ekonomická témata.\nVíce informací k 
 akci naleznete na webu BVV. \n
URL:https://www.spcr.cz/65-mezinarodni-strojirensky-veletrh
DTSTART:20241008T000000
DTEND:20241011T235959
LOCATION:
END:VEVENT
END:VCALENDAR
