BEGIN:VCALENDAR
PRODID:-//eluceo/ical//2.0/EN
VERSION:2.0
CALSCALE:GREGORIAN
BEGIN:VEVENT
UID:dc358abe5c23c9f0d05af983313c99ef
DTSTAMP:20260423T125059Z
SUMMARY:KOMPOZYT-EXPO 2024
DESCRIPTION:Název akce: KOMPOZYT-EXPO 2024\nURL: https://www.spcr.cz/kompo
 zyt-expo-2024\nPopis: \n\nAgentura CzechTrade zve české firmy k účasti
  na veletrhu KOMPOZYT-EXPO 2024. Veletrh je zařazený mezi podporované a
 kce v projektu NOVUMM2KET spolufinancovaného z OP TAK - program Marketing
 . Malé a střední podniky mohou čerpat podporu na svou prezentaci. Víc
 e o podmínkách čtěte v sekci Programy EU\, https://www.czechtrade.cz/
 programy-eu/op-tak-%E2%80%93-projekty-novumm-2-a-novumm2ket/novumm-ket\nKO
 MPOZYT-EXPO 2024 je mezinárodní veletrh v Polsku se zaměřením na kom
 pozitní materiály včetně spousty konferencí a workshopů. \nVíce in
 formací k akci se dozvíte na webu CzechTrade. \n
URL:https://www.spcr.cz/kompozyt-expo-2024
DTSTART:20241016T000000
DTEND:20241017T235959
LOCATION:
END:VEVENT
END:VCALENDAR
