BEGIN:VCALENDAR
PRODID:-//eluceo/ical//2.0/EN
VERSION:2.0
CALSCALE:GREGORIAN
BEGIN:VEVENT
UID:2bd66d7704b3041f372cfc228e149651
DTSTAMP:20260423T150145Z
SUMMARY:Slavnostní vyhlášení Ceny za průmyslový design
DESCRIPTION:Název akce: Slavnostní vyhlášení Ceny za průmyslový desi
 gn\nURL: https://www.spcr.cz/slavnostni-vyhlaseni-ceny-za-prumyslovy-desig
 n\nPopis: \n\nLetos poprvé bude Design Centrum CzechTrade předávat Ce
 nu za průmyslový design českým vystavovatelům na Mezinárodním stroj
 írenském veletrhu v Brně. Ocenění je zaměřeno na firmy\, které na
 bízejí produkty s vysokou kvalitou zpracování a vynikajícím průmysl
 ovým designem.Cílem Ceny za průmyslový design Mezinárodního strojír
 enského veletrhu je popularizace průmyslového designu jako nástroje pr
 o kreativní řešení také v oblastech strojírenského a elektrotechnic
 kého průmyslu.Komise\, složená z odborníků v oblasti průmyslovéh
 o designu\, bude hodnotit exponáty českých vystavovatelů MSV přímo n
 a veletrhu.Slavnostní vyhlášení se uskuteční dne 9. října 2024 v 
 České národní expozici na Mezinárodním strojírenském veletrhu.Proc
 es a kritéria hodnocení naleznete ve stanovách Ceny za průmyslový des
 ign pro 1. ročník.Více informací k akci se dozvíte zde. \n
URL:https://www.spcr.cz/slavnostni-vyhlaseni-ceny-za-prumyslovy-design
DTSTART:20241009T000000
DTEND:20241009T235900
LOCATION:
END:VEVENT
END:VCALENDAR
