BEGIN:VCALENDAR
PRODID:-//eluceo/ical//2.0/EN
VERSION:2.0
CALSCALE:GREGORIAN
BEGIN:VEVENT
UID:7e5a57dd4d50444b1290a1c8a8a39dc5
DTSTAMP:20260423T162959Z
SUMMARY:REHACARE 2024
DESCRIPTION:Název akce: REHACARE 2024\nURL: https://www.spcr.cz/rehacare-2
 024\nPopis: \n\nAgentura CzechTrade zve české firmy k účasti na veletr
 hu REHACARE 2024. Veletrh je zařazený mezi podporované akce v projektu 
 NOVUMM2KET spolufinancovaného z OP TAK - program Marketing. Malé a stře
 dní podniky mohou čerpat podporu na svou prezentaci. Více o podmínkác
 h čtěte v sekci Programy EU\, OP TAK https://www.czechtrade.cz/programy
 -eu/op-tak-%E2%80%93-projekty-novumm-2-a-novumm2ket/novumm-ket\nREHACARE 2
 024 je světově nejvýznamnějším veletrhem v oblasti rehabilitace\, pe
 čovatelství a zdravotní péče. Jedná se o komplexní přehlídku pom
 ůcek a služeb pro každý handicap\, od pomůcek pro mobilitu i zvládá
 ní každodenního života\, pomůcek pro poskytování péče doma i ve z
 dravotnických zařízeních\, komunikační techniku\, bydlení\, až po 
 nápadů pro volný čas\, cestování a sport. Veletrh je primárně urč
 en odborné veřejnosti jako jsou zástupci firem\, obchodníci\, nákupč
 í a odborníci. Veletrh podporuje následující produktové kategorie: p
 omůcky pro zvládání každodenního života\, péče o tělo\, výživa
 \, komunikační technika\, mobilita\, bezbariérové bydlení\, pomůcky 
 a služby pro pracovní činnost\, rehabilitační a zdravotnické pomůck
 y\, oblečení a ochranné vybavení\, volný čas a sport\, pomůcky pro 
 děti a cestování.\nVíce informací k akci se dozvíte na webu CzechTra
 de. \n
URL:https://www.spcr.cz/rehacare-2024
DTSTART:20240925T000000
DTEND:20240928T235959
LOCATION:
END:VEVENT
END:VCALENDAR
