BEGIN:VCALENDAR
PRODID:-//eluceo/ical//2.0/EN
VERSION:2.0
CALSCALE:GREGORIAN
BEGIN:VEVENT
UID:d2db86bd61a66bd4030915ce2ccf4af6
DTSTAMP:20260423T150509Z
SUMMARY:FachPack 2024
DESCRIPTION:Název akce: FachPack 2024\nURL: https://www.spcr.cz/fachpack-2
 024\nPopis: \n\nAgentura CzechTrade zve české firmy k účasti na veletr
 hu FachPack 2024. Veletrh je zařazený mezi podporované akce v projektu 
 NOVUMM 2 spolufinancovaného z OP TAK - program Marketing. Malé a středn
 í podniky mohou čerpat podporu na svou prezentaci. Více o podmínkách 
 čtěte v sekci Programy EU\, OP TAK https://www.czechtrade.cz/programy-e
 u/op-tak-%E2%80%93-projekty-novumm-2-a-novumm2ket/novumm\nFachPack 2024 j
 e mezinárodním veletrhem se zaměřením na technologie obalů pro prů
 myslovou sféru a pro spotřebitele.\nVíce informací k akci se dozvíte 
 na webu CzechTrade.\n
URL:https://www.spcr.cz/fachpack-2024
DTSTART:20240924T000000
DTEND:20240926T235959
LOCATION:
END:VEVENT
END:VCALENDAR
