BEGIN:VCALENDAR
PRODID:-//eluceo/ical//2.0/EN
VERSION:2.0
CALSCALE:GREGORIAN
BEGIN:VEVENT
UID:d4c0b9e1812196bd3bff872efaa6ca49
DTSTAMP:20260423T125059Z
SUMMARY:Paříž\, Francie
DESCRIPTION:Název akce: Paříž\, Francie\nURL: https://www.spcr.cz/pariz
 -francie\nPopis: \n\nAgentura CzechTrade zve české firmy k účasti na v
 eletrhu MONDIAL DU BATIMENT 2024. Veletrh je zařazený mezi podporované 
 akce v projektu NOVUMM2KET spolufinancovaného z OP TAK - program Marketin
 g. Malé a střední podniky mohou čerpat podporu na svou prezentaci. Ví
 ce o podmínkách čtěte v sekci Programy EU\, OP TAK https://www.czecht
 rade.cz/programy-eu/op-tak-%E2%80%93-projekty-novumm-2-a-novumm2ket/novumm
 -ket\nVeletrh MONDIAL DU BATIMENT 2024  je významný multioborový mez
 inárodní veletrh v oblasti stavebnictví\, prestižní akce vhodná pro 
 široké spektrum firem.\nV průběhu veletrhu probíhají akce: BATIMAT
  https://www.batimat.com/ NTERCLIMA https://www.interclima.com/en-gb.ht
 ml a IDEOBAIN https://www.ideobain.com/en-gb.html což zvyšuje množst
 ví návštěvníků a potenciálních obchodních partnerů.\nVíce infor
 mací k připravované akci se dozvíte na webu CzechTrade. \n
URL:https://www.spcr.cz/pariz-francie
DTSTART:20240930T000000
DTEND:20241003T235959
LOCATION:
END:VEVENT
END:VCALENDAR
