BEGIN:VCALENDAR
PRODID:-//eluceo/ical//2.0/EN
VERSION:2.0
CALSCALE:GREGORIAN
BEGIN:VEVENT
UID:f563b42f494e4ea1eab42a37a0269699
DTSTAMP:20260423T124857Z
SUMMARY:Semiconductor Technology Expo in Kyushu 2024
DESCRIPTION:Název akce: Semiconductor Technology Expo in Kyushu 2024\nURL:
  https://www.spcr.cz/semiconductor-technology-expo-kyushu-2024\nPopis: \n\
 nAgentura CzechTrade pořádá pro české firmy společnou expozici na ve
 letrhu Semiconductor Technology Expo in Kyushu 2024.\nChcete vystavovat na
  této akci\, ale neplánujete vlastní stánek? Prezentujte se v expozic
 i v gesci CzechTrade a ušetřete si čas i náklady. Kromě stavby spole
 čné expozice nabízíme doprovodné služby\, kterými zvýšíme návš
 těvnost českého stánku\, a tím i šance pro vás najít nové obchodn
 í partnery.\nSemiconductor Technology Expo in Kyushu 2024 je mezinárodn
 í veletrh a fórum věnované rozvoji dodavatelských řetězců ve výro
 bě a vývoji polovodičových technologií v nově vznikajícím klastru 
 na severu ostrova Kjúšu v Japonsku.\nVíce informací o akci se dozvíte
  na webu CzechTrade. \n
URL:https://www.spcr.cz/semiconductor-technology-expo-kyushu-2024
DTSTART:20240925T000000
DTEND:20240926T235959
LOCATION:
END:VEVENT
END:VCALENDAR
