BEGIN:VCALENDAR
PRODID:-//eluceo/ical//2.0/EN
VERSION:2.0
CALSCALE:GREGORIAN
BEGIN:VEVENT
UID:ccd0c4edf2f4511caea4090fbea114a9
DTSTAMP:20260423T125654Z
SUMMARY:Mise českých společností ze sektoru Space Industry do Nizozemsk
 a 2024
DESCRIPTION:Název akce: Mise českých společností ze sektoru Space Indu
 stry do Nizozemska 2024\nURL: https://www.spcr.cz/mise-ceskych-spolecnosti
 -ze-sektoru-space-industry-do-nizozemska-2024\nPopis: \n\nAgentura CzechTr
 ade ve  spolupráci s Velvyslanectvím České republiky v Haagu  zve 
 české inovativní firmy dodávající do kosmického sektoru na misi do 
 Nizozemska. Letos je součástí mise návštěva veletrhu Esa Industry Sp
 ace Days a jednání s firmami v rámci asociace SpaceNed.\nV Nizozemsku j
 e vesmírný sektor důležitou částí technologického průmyslu. Podni
 ká v něm 250 společností a institucí\, které se zaměřují hlavně 
 na výzkum a technologie ve spolupráci s Evropskou vesmírnou agenturou (
 ESA) a dalšími partnery.\nV roce 2023 veletrh ESA Industry Space Days na
 vštívilo 1700 odborníků z 800 firem a institucí z celého světa.\nV
 íce informací k připravované akci naleznete na webu CzechTrade. \n
URL:https://www.spcr.cz/mise-ceskych-spolecnosti-ze-sektoru-space-industry-
 do-nizozemska-2024
DTSTART:20240917T000000
DTEND:20240920T235959
LOCATION:
END:VEVENT
END:VCALENDAR
