BEGIN:VCALENDAR
PRODID:-//eluceo/ical//2.0/EN
VERSION:2.0
CALSCALE:GREGORIAN
BEGIN:VEVENT
UID:7d3bbeb00ce223dcb8d9041a94be11e9
DTSTAMP:20260423T162642Z
SUMMARY:Mise podnikatelů z vodohospodářství na Ukrajinu 2024
DESCRIPTION:Název akce: Mise podnikatelů z vodohospodářství na Ukrajin
 u 2024\nURL: https://www.spcr.cz/mise-podnikatelu-z-vodohospodarstvi-na-uk
 rajinu-2024\nPopis: \n\nAgentura CzechTrade a Velvyslanectví ČR v Kyjev
 ě pořádají misi pro české firmy\, které podnikají v oboru vodohosp
 odářství na Ukrajinu. Finanční podporu na akci poskytuje projekt ekon
 omické diplomacie.\nPozvánka a registrační formulář jsou k dispozici
  zde. Přihlášku prosím zašlete gestorovi akce do 26. 8. 2024.\nVODOH
 OSPODÁŘSTVÍ NA UKRAJINĚ\n\nVe většině ukrajinských obcí fungují 
 zastaralé vodovodní sítě\, které byly postaveny před 40-60 lety\, a 
 rovněž tak i systémy čištění odpadních vod.\nKvůli útoků se sit
 uace v zemi zhoršila\, objekty vodního hospodářství jsou poškozené\
 , dochází k haváriím potrubí\, někteří obyvatelé nemají stálý 
 přístup k pitné vodě z vodovodu.\nSeznámíte se se stavem vodovodů a
  ČOV\, urbanistickými specifiky vodního hospodářství\, kdy některé
  kraje řeší napojení na nové vodní zdroje\, což vyžaduje přestavb
 u vodovodních sítí a systému úpravy vody.\nNavíc i vnitrostátní mi
 grace přetěžuje dosavadní síť rozvodů pitné i odpadní vody. Řeš
 ení je v modernizaci stávajícího zařízení i ve výstavbě nových o
 bjektů.\n\n \nPROČ BYSTE SE MĚLI ÚČASTNIT PRÁVĚ TÉTO MISE?\n\nSeg
 ment komunálního vodního hospodářství skýtá velký potenciál pro
  uplatnění technologií a zařízení od českých podniků.\nNavázán
 í obchodních a osobních kontaktů s ukrajinskými podniky\, působící
 ch v oblasti dodávek\, výstavby\, údržby a servisu vodohospodářskýc
 h objektů.\nPřímo na Ukrajině nabídnete technická řešení a s ukra
 jinskými podniky projednáte možnosti spolupráce.\nSeznámení s aktuá
 lními projekty v segmentu dodávek pitné vody a čištění odpadních v
 od v různých regionech Ukrajiny\, jejich místním specifikem\, problém
 y a možnostmi financování.\n\nVíce informací k připravované akci na
 leznete na webu CzechTrade. \n
URL:https://www.spcr.cz/mise-podnikatelu-z-vodohospodarstvi-na-ukrajinu-202
 4
DTSTART:20240914T000000
DTEND:20240914T235959
LOCATION:
END:VEVENT
END:VCALENDAR
