BEGIN:VCALENDAR
PRODID:-//eluceo/ical//2.0/EN
VERSION:2.0
CALSCALE:GREGORIAN
BEGIN:VEVENT
UID:7ba31aa2fb0dc8d2bffa1e73435af9ce
DTSTAMP:20260423T145024Z
SUMMARY:Environmental Services & Solutions Expo 2024
DESCRIPTION:Název akce: Environmental Services & Solutions Expo 2024\nURL:
  https://www.spcr.cz/environmental-services-solutions-expo-2024\nPopis: \n
 \nAgentura CzechTrade pořádá pro české firmy společnou expozici na m
 ezinárodním veletrhu ENVIRONMENTAL SERVICES & SOLUTIONS EXPO 2024.\nEnvi
 ronmental Services & Solutions Expo je největším britským veletrhem\, 
 který se zaměřuje na technologie týkající se životního prostředí
 . Má celkem pět sekcí – Water Resource Management\, Contamination & L
 and Remediation\, Resource & Waste Management\, Air Polution Control a Ene
 rgy\, Fuels & Decarbonisation. Potvrzuje se tak motto veletrhu The Entire 
 Industry in One Place.\nPro české firmy jsme vybrali společný stánek 
 v sekci Water Resource Management\, která je vhodná pro všechny export
 éry z oboru vody a vodohospodářství. Účast je ale možné domluvit v
  rámci samostatné individuální expozice i v jiných sekcích veletrhu.
 \nSpolečná expozice umožní prezentaci těm firmám\, které neplánuj
 í samostatný stánek. Navíc díky službám zahraniční kanceláře Cz
 echTrade Spojené království navštěvují národní stánek zájemci o 
 spolupráci s tuzemskými dodavateli\, což zvyšuje šance na úspěšný
  vývoz.\nVíce informací k akci naleznete na webu CzechTrade. \n
URL:https://www.spcr.cz/environmental-services-solutions-expo-2024
DTSTART:20240911T080000
DTEND:20240912T170000
LOCATION:
END:VEVENT
END:VCALENDAR
