BEGIN:VCALENDAR
PRODID:-//eluceo/ical//2.0/EN
VERSION:2.0
CALSCALE:GREGORIAN
BEGIN:VEVENT
UID:1cd1406d67261ea92a6fd4e22d6c7f7b
DTSTAMP:20260423T125654Z
SUMMARY:International Fair of Mining\, Power Industry and Metallurgy 2024
DESCRIPTION:Název akce: International Fair of Mining\, Power Industry and 
 Metallurgy 2024\nURL: https://www.spcr.cz/international-fair-mining-power-
 industry-and-metallurgy-2024\nPopis: \n\nAgentura CzechTrade zve české f
 irmy k účasti na veletrhu International Fair of Mining\, Power Industry
  and Metallurgy 2024. Veletrh je zařazený mezi podporované akce v proje
 ktu NOVUMM 2 spolufinancovaného z OP TAK - program Marketing. Malé a st
 řední podniky mohou čerpat podporu na svou prezentaci. Více o podmínk
 ách čtěte v sekci Programy EU\, OP TAK https://www.czechtrade.cz/progr
 amy-eu/op-tak-%E2%80%93-projekty-novumm-2-a-novumm2ket/novumm\nVeletrh hor
 nictví\, energetiky a hutnictví je přední evropskou prezentací stroj
 ů\, technik a technologií používaných v těžebním průmyslu. Veletr
 žní nabídka byla obohacena v souladu s požadavky vystavovatelů v obla
 sti dekarbonizační politiky\, energetické transformace směrem k účin
 nosti a snižování emisí\, opatření na ochranu klimatu a životního 
 prostředí a rozvoje obnovitelných zdrojů energie.\nVíce informací k 
 veletrhu se dozvíte na webu CzechTrade. \n
URL:https://www.spcr.cz/international-fair-mining-power-industry-and-metall
 urgy-2024
DTSTART:20240904T080000
DTEND:20240906T170000
LOCATION:
END:VEVENT
END:VCALENDAR
