BEGIN:VCALENDAR
PRODID:-//eluceo/ical//2.0/EN
VERSION:2.0
CALSCALE:GREGORIAN
BEGIN:VEVENT
UID:bacf2f02bbfd529db44ab724c1bb19c8
DTSTAMP:20260423T172605Z
SUMMARY:Business fórum Ukrajina
DESCRIPTION:Název akce: Business fórum Ukrajina\nURL: https://www.spcr.cz
 /business-forum-ukrajina\nPopis: \n\nMinisterstvo průmyslu a obchodu ve s
 polupráci se Svazem průmyslu a dopravy ČR a Hospodářskou komorou ČR 
 si Vás dovolují pozvat na Business fórum při příležitosti 10. zase
 dání česko-ukrajinské Mezivládní komise pro hospodářskou\, průmys
 lovou a vědecko-technickou spolupráci. Akce se koná dne 12. července
  2024 od 10:00 na adrese Ministerstvo průmyslu a obchodu\, Na Františku 
 1039/32\, Praha 1\, místnost Skleněnka.\nNa zahájení vystoupí ministr
  průmyslu a obchodu Jozef Síkela\, velvyslanec České republiky na Ukra
 jině Radek Pech\, zmocněnec Tomáš Kopečný a další politicky a odbo
 rně významné osobnosti zodpovědné za český podíl na rekonstrukci U
 krajiny.  Za ukrajinskou stranu se zúčastní vicepremiérka a ministry
 ně hospodářství Julie Svyrydenko. Účast na akci představuje jedine
 čnou příležitost seznámit se v rámci networkingu s ukrajinskými pr
 otějšky českého businessu a státní správy.\nV případě zájmu je
  potřeba potvrdit svoji účast emailem na adrese ukrajina@mpo.cz\, a to 
 do středy 10.7.2024. Jednacím jazykem business fóra je angličtina\, 
 účast na akci je zdarma. Pro vstup do budovy je potřeba platný doklad 
 totožnosti.\n
URL:https://www.spcr.cz/business-forum-ukrajina
DTSTART:20240712T100000
DTEND:20240712T120000
LOCATION:
END:VEVENT
END:VCALENDAR
