BEGIN:VCALENDAR
PRODID:-//eluceo/ical//2.0/EN
VERSION:2.0
CALSCALE:GREGORIAN
BEGIN:VEVENT
UID:601ecd288422f2bb7923238f6a0547f8
DTSTAMP:20260423T150037Z
SUMMARY:Tunisko - 11th edition of the “Business Exhibition“
DESCRIPTION:Název akce: Tunisko - 11th edition of the “Business Exhibiti
 on“\nURL: https://www.spcr.cz/tunisko-11th-edition-business-exhibition\n
 Popis: \n\nDovolujeme si Vám předat pozvání na 11. ročník tuniského
  „Business Exhibition“. Akce se bude konat 20. a 21. listopadu 2024 na
  mezinárodním veletrhu Sfax v Tunisku. Tato akce je místem setkání po
 dnikatelů\, investorů\, obchodníků\, průmyslníků\, poskytovatelů s
 lužeb\, řemeslníků\, zemědělců\, sdružení\, zástupců ministerst
 ev\, organizací\, vlád\, finančních institucí a zástupců občanské
  společnosti. Během dvou dnů proběhnou velké semináře\, přes 40 mi
 nikonferencí a kulatých stolů pod vedením specialistů a expertů na t
 émata spojená s tvorbou projektů\, developmentpement recovery\, financo
 váním společností\, franšízou a mentoringem.\nTato akce je zaměřuj
 e také na oblast: financování\, Inovace a Průmysl 4.0\, Startup Booste
 r a Franchise Expo Sfax. \nObchodní výstava hostí více než 6000 náv
 štěvníků\, více než 100 profesionálních vystavovatelů a několik 
 workshopů\, kde se můžete učit\, budovat vztahy a podnikat kroky k nav
 ázání partnerských setkání a iniciativ k vytváření sítí. \nDal
 ší informace k dispozici zde. \n \n
URL:https://www.spcr.cz/tunisko-11th-edition-business-exhibition
DTSTART:20241120T000000
DTEND:20241121T235959
LOCATION:
END:VEVENT
END:VCALENDAR
