BEGIN:VCALENDAR
PRODID:-//eluceo/ical//2.0/EN
VERSION:2.0
CALSCALE:GREGORIAN
BEGIN:VEVENT
UID:5b5d88b9ea635e9a377277cb70baefb1
DTSTAMP:20260423T124849Z
SUMMARY:Podpora exportu v podnicích (webinář)
DESCRIPTION:Název akce: Podpora exportu v podnicích (webinář)\nURL: htt
 ps://www.spcr.cz/podpora-exportu-v-podnicich-webinar\nPopis: \n\nAgentura 
 pro podnikání a inovace ve spolupráci s CzechTrade zve všechny záje
 mce z řad podnikatelů na akci s názvem Podpora exportu v podnicích\,
  která se koná ve středu 18. července 2024 online.\nÚčast na akci 
 je bezplatná\, závaznou registraci je třeba učinit nejpozději do 
 17. 7. 2023 do 12:00 nebo do vyčerpání kapacity\, a to prostřednictv
 ím registračního formuláře kliknutím ZDE.\nBližší informace o ak
 ci naleznete v pozvánce zde.\n
URL:https://www.spcr.cz/podpora-exportu-v-podnicich-webinar
DTSTART:20240718T100000
DTEND:20240718T120000
LOCATION:
END:VEVENT
END:VCALENDAR
