BEGIN:VCALENDAR
PRODID:-//eluceo/ical//2.0/EN
VERSION:2.0
CALSCALE:GREGORIAN
BEGIN:VEVENT
UID:cf6a2c8fd8793dcc45bfca269f251763
DTSTAMP:20260423T130212Z
SUMMARY:Mise inovativních společností a startupů do Thajska 2024
DESCRIPTION:Název akce: Mise inovativních společností a startupů do Th
 ajska 2024\nURL: https://www.spcr.cz/mise-inovativnich-spolecnosti-startup
 u-do-thajska-2024\nPopis: \n\nMise inovativních společností a startupů
  do Thajska 2024\n\nAgentura CzechTrade\, Velvyslanectví ČR v Bangkoku a
  Velvyslanectví Thajského království v Praze zvou české inovativní
  technologické firmy a startupy na podnikatelskou misi do Bangkoku a na k
 onferenci Techsauce Global Summit Bangkok 2024.\nMise se uskuteční při 
 příležitosti oslav 50 let vzájemných česko-thajských diplomatickýc
 h vztahů. Toto významné jubileum podtrhuje dlouhodobě skvělé vztahy 
 mezi oběma zeměmi\, které se překlopily do spolupráce ve všech oblas
 tech\, včetně té obchodní.\nThajsko je významným hráčem v jihovýc
 hodní Asii. Akce je tak skvělou příležitostí nasbírat informace a z
 kušenosti\, a také potkat se s novými partnery a investory.\nPROČ BYS
 TE SE MĚLI ÚČASTNIT MISE A KONFERENCE TECHSAUCE GLOBAL SUMMIT BANGKOK?\
 n\nProgram je plný bloků konferencí\, seminářů\, workshopů\, obchod
 ních setkání\, na které obdržíte vstupenky.\nKromě zajímavých vys
 tupujících budou na akci přítomny společnosti SCBX\, SCG\, Siampiwat\
 , Muang Thai Life\, Krungthai\, CPF.\nOrganizátorem konference je unikát
 ní thajská instituce Techsauce\, kterou založili lídři thajských te
 chnologických startupů. Právě Techsauce propojuje tyto společnosti\, 
 informuje je o trendech a vytváří efektivní ekosystém.\nBudete moci p
 rezentovat svůj produkt a využít prostory národního stánku\, kde bud
 e přítomný thajský zástupce\, dále budete moci vystoupit v českém 
 prezentačním bloku.\nVíce informací o konferenci je možné nalézt na
  www.summit.techsauce.co.\n\nVíce informací k akci naleznete na stránk
 ách CzechTrade. \n
URL:https://www.spcr.cz/mise-inovativnich-spolecnosti-startupu-do-thajska-2
 024
DTSTART:20240805T000000
DTEND:20240810T235959
LOCATION:
END:VEVENT
END:VCALENDAR
