BEGIN:VCALENDAR
PRODID:-//eluceo/ical//2.0/EN
VERSION:2.0
CALSCALE:GREGORIAN
BEGIN:VEVENT
UID:211664c0e3223de08bed36864858feea
DTSTAMP:20260423T162642Z
SUMMARY:ACCS - Agricultural & Commercial Cooperative Society of Zambia Limi
 ted 2024
DESCRIPTION:Název akce: ACCS - Agricultural & Commercial Cooperative Socie
 ty of Zambia Limited 2024\nURL: https://www.spcr.cz/accs-agricultural-comm
 ercial-cooperative-society-zambia-limited-2024\nPopis: \n\nACCS - Agricult
 ural & Commercial Cooperative Society of Zambia Limited 2024\n\nAgentura C
 zechTrade zve české firmy k účasti na veletrhu ACCS - Agricultural &
  Commercial Cooperative Society of Zambia Limited 2024. Veletrh je zařaze
 ný mezi podporované akce v projektu NOVUMM 2 spolufinancovaného z OP TA
 K - program Marketing. Malé a střední podniky mohou čerpat podporu na 
 svou prezentaci. Více o podmínkách čtěte v sekci Programy EU\, OP TAK
  https://www.czechtrade.cz/programy-eu/op-tak-%E2%80%93-projekty-novumm-2
 -a-novumm2ket/novumm\nVeletrh ACCS - Agricultural & Commercial Cooperati
 ve Society of Zambia Limited 2024 se řadí mezi nejvýznamnější velet
 rhy v Africe určený pro pokročilé techniky a technologie v hornictví\
 , zdravotnictví a zemědělství.\nVíce o veletrhu na webu https://acsz
 .co.zm/\nPrezentujte se na veletrhu ACCS - Agricultural & Commercial Coo
 perative Society of Zambia Limited 2024 s finanční dotací z projektu 
 NOVUMM 2.\nDOTAČNÍ PODMÍNKY\n\nVeletrhu se musí zúčastnit min. 5 fir
 em\, z toho min. 3 na společné expozici\nPodporujeme malé a střední 
 podniky se sídlem či provozovnou mimo hl. m. Prahu\nProjekty jsou spoluf
 inancovány z operačního programu Technologie a aplikace pro konkurences
 chopnost 2024–2027\nPovinná participace účastníka (spoluúčast) je 
 pouze 30 %\nMožnost získání podpory na konference\, semináře\, sympo
 zia a další přidružené akce\nDo participace MSP lze uznat způsobilý
  výdaj na obousměrnou letenku do max. výše 10 000\,- Kč\nMSP je posk
 ytována podpora de minimis formou zvýhodněných služeb až do výše 1
 20 000\,- Kč \n\nFORMY FIREMNÍ PREZENTACE\nInovace vzhledu\, materiál
 ů a rozložení společné expozice v projektu NOVUMM 2\nÚčast ve spole
 čné české expozici CzechTrade\n\nFirma se prezentuje spolu s dalšími
  českými vystavovateli ve společném stánku v gesci CzechTrade. Využ
 ívá se společné zázemí s kuchyňkou\nVýhodou je jednotný vzhled a 
 větší\, viditelnější expozice\nCzechTrade zajišťuje pronájem ploc
 hy\, registraci a technické přípojky jako podporu MSP\nVytvoření Cent
 rálního jednacího sektoru v rámci společné expozice\n\nSamostatná 
 účast s dotací\n\nPři splnění podmínky\, že se tři firmy účastn
 í společné expozice\, je možné podpořit samostatné vystavovatele v 
 individuálních stáncích\nVystavovatel si zajistí s veletržní správ
 ou fakturaci plochy\, registračního poplatku\, technických přípojek\,
  popřípadě dalších služeb přímo na agenturu CzechTrade\, která za
  firmu tyto faktury uhradí. Účastníkovi nelze zpětně proplatit jím 
 zaplacené náklady\nFirma si zajišťuje výstavní plochu\, design a rea
 lizaci stánku sama napřímo s veletržní správou nebo dodavatelem\nVý
 hodou je libovolné umístění a grafika stánku\n\nRádi zodpovíme Va
 še dotazy týkající se forem prezentace\, podpory\, vhodnosti veletrhu 
 pro Váš výrobek či službu nebo poradíme\, jak se nejlépe na veletrh
  připravit. \nV případě zájmu o účast na akci vyplňte přihlášk
 u skrze dotační portál na AIS MPO nebo se ozvěte gestorce akce Ing. J
 aroslavě Pacákové.\nVíce informací k akci a kontakt naleznete zde. \
 n
URL:https://www.spcr.cz/accs-agricultural-commercial-cooperative-society-za
 mbia-limited-2024
DTSTART:20240731T000000
DTEND:20240805T235959
LOCATION:
END:VEVENT
END:VCALENDAR
