BEGIN:VCALENDAR
PRODID:-//eluceo/ical//2.0/EN
VERSION:2.0
CALSCALE:GREGORIAN
BEGIN:VEVENT
UID:4d899dcd0a49e33e4cd566a8e4d34a1f
DTSTAMP:20260423T145750Z
SUMMARY:EAA AirVenture Oshkosh 2024
DESCRIPTION:Název akce: EAA AirVenture Oshkosh 2024\nURL: https://www.spcr
 .cz/eaa-airventure-oshkosh-2024\nPopis: \n\nEAA AirVenture Oshkosh 2024\n\
 nAgentura CzechTrade zve české firmy k účasti na veletrhu EAA AirVentu
 re Oshkosh 2024. Veletrh je zařazený mezi podporované akce v projektu N
 OVUMM2KET spolufinancovaného z OP TAK - program Marketing. Malé a střed
 ní podniky mohou čerpat podporu na svou prezentaci. Více o podmínkách
  čtěte v sekci Programy EU\, OP TAK https://www.czechtrade.cz/programy-
 eu/op-tak-%E2%80%93-projekty-novumm-2-a-novumm2ket/novumm-ket\nEAA AirVent
 ure Oshkosh je mezinárodním místem setkání pro všechny letecké př
 íznivce. Účastníci mohou sledovat jednu z největších leteckých př
 ehlídek od malých letounů až po sportovní stroje\, seznámí se také
  s posledními technologickými novinkami na téměř 1.000 fór a worksh
 opů.\nVíce o veletrhu na webu http://airventure.org/\nLink pro přihlá
 šení na akci: https://aisportal.mpo.cz/AISPortal/Default\nPrezentujte se
  na veletrhu EAA AirVenture Oshkosh 2024 s finanční dotací z projektu
  NOVUMM2KET.\nDotační podmínky\n\nVeletrhu se musí zúčastnit min. 5
  firem\, z toho min. 3 na společné expozici\nPodporujeme malé a střed
 ní podniky se sídlem či provozovnou mimo hl. m. Prahu\nProjekty jsou sp
 olufinancovány z operačního programu Technologie a aplikace pro konkure
 nceschopnost 2024–2027\nPovinná participace účastníka (spoluúčast)
  je pouze 30 %\nMožnost získání podpory na konference\, semináře\, s
 ympozia a další přidružené akce\nDo participace MSP lze uznat způsob
 ilý výdaj na obousměrnou letenku do max. výše 10 000\,- Kč\nMSP je 
 poskytována podpora de minimis formou zvýhodněných služeb až do vý
 še 160 000\,- Kč \n\nFormy firemní prezentace\nInovace vzhledu\, mater
 iálů a rozložení společné expozice v projektu NOVUMM2KET\nÚčast ve
  společné české expozici CzechTrade\n\nFirma se prezentuje spolu s dal
 šími českými vystavovateli ve společném stánku v gesci CzechTrade. 
 Využívá se společné zázemí s kuchyňkou\nVýhodou je jednotný vzhl
 ed a větší\, viditelnější expozice\nCzechTrade zajišťuje pronájem
  plochy\, registraci a technické přípojky jako podporu MSP\nVytvoření
  Centrálního jednacího sektoru v rámci společné expozice\n\nSamostat
 ná účast s dotací\n\nPři splnění podmínky\, že se tři firmy úč
 astní společné expozice\, je možné podpořit samostatné vystavovatel
 e v individuálních stáncích\nVystavovatel si zajistí s veletržní sp
 rávou fakturaci plochy\, registračního poplatku\, technických přípoj
 ek\, popřípadě dalších služeb přímo na agenturu CzechTrade\, kter
 á za firmu tyto faktury uhradí. Účastníkovi nelze zpětně proplatit 
 jím zaplacené náklady\nFirma si zajišťuje výstavní plochu\, design 
 a realizaci stánku sama napřímo s veletržní správou nebo dodavatelem
 \nVýhodou je libovolné umístění a grafika stánku\n\nRádi zodpovím
 e Vaše dotazy týkající se forem prezentace\, podpory\, vhodnosti velet
 rhu pro Váš výrobek či službu nebo poradíme\, jak se nejlépe na vel
 etrh připravit. \nV případě zájmu o účast na akci vyplňte přihl
 ášku skrze dotační portál na AIS MPO nebo se ozvěte gestorce akce 
 Evě Novotné.\nKontakt a více informací k akci naleznete zde. \n
URL:https://www.spcr.cz/eaa-airventure-oshkosh-2024
DTSTART:20240722T000000
DTEND:20240722T235959
LOCATION:
END:VEVENT
END:VCALENDAR
