BEGIN:VCALENDAR
PRODID:-//eluceo/ical//2.0/EN
VERSION:2.0
CALSCALE:GREGORIAN
BEGIN:VEVENT
UID:8467024bca804a97a5e8ec1649799588
DTSTAMP:20260423T163201Z
SUMMARY:Setkání příznivců textilního průmyslu
DESCRIPTION:Název akce: Setkání příznivců textilního průmyslu\nURL:
  https://www.spcr.cz/setkani-priznivcu-textilniho-prumyslu\nPopis: \n\nZú
 častněte se akce v podtitulem "Zušlechťování\, barvení a tisk texti
 lií včera\, dnes a zítra".\nPROGRAM\n09.00 - 10.30 | Exkurze - Inotex s
  r.o. - Jan Marek 10.30 - 11.00 | Přesun do hotelu Za Vodou a registrace 
 11.00 - 11.15 | Zahájení - Naďa Vojtíšková\, Svaz průmyslu a doprav
 y ČR 11.15 - 11.45 | Nové trendy - Miloš Beran\, Česká technologická
  platforma pro textil\, z.S. 11.45 - 12.15 | Praktické uplatnění novýc
 h zušlechťovacích metod - Jan Marek/Lenka Martinková\, Inotex s r.o.12
 .15 - 13.15 | Příklady z praxe firem - KNITVA s.r.o.\, BARTOŇ - textil\
 , a.s. a La Linea s.r.o. 13.15 - 14.00 | Oběd 14.00 - 14.30 | Přesun do 
 muzea 14.30 - 15.30 | Exkurze - expozice textilního tisku\, Městské muz
 eum ve Dvoře Králové n. L.\nRegistrujte se na webu regform.spcr.cz.\n
URL:https://www.spcr.cz/setkani-priznivcu-textilniho-prumyslu
DTSTART:20240911T090000
DTEND:20240911T153000
LOCATION:
END:VEVENT
END:VCALENDAR
