BEGIN:VCALENDAR
PRODID:-//eluceo/ical//2.0/EN
VERSION:2.0
CALSCALE:GREGORIAN
BEGIN:VEVENT
UID:b9e2d9f513ed5056839e00dfda0b9236
DTSTAMP:20260423T163303Z
SUMMARY:Podnikatelská mise do Kataru
DESCRIPTION:Název akce: Podnikatelská mise do Kataru\nURL: https://www.sp
 cr.cz/podnikatelska-mise-do-kataru\nPopis: \n\nSvaz průmyslu a dopravy Č
 R (SP ČR) si Vás dovoluje informovat\, že ve dnech 22.-25. září 202
 4 se bude konat cesta ministra průmyslu a obchodu ČR Jozefa Síkely do 
 Kataru s doprovodnou podnikatelskou delegací\, kterou za Svaz průmyslu a
  dopravy ČR povede člen představenstva.\nPodnikatelská delegace do Kat
 aru se bude soustředit na posílení vazeb a podporu spolupráce v klíč
 ových technologických oblastech\, zejména v oblasti energetiky\, vodoh
 ospodářství\, smart cities a zdravotnictví. Cílem delegace je naváza
 t kontakty s katarskými protějšky a vedoucími představiteli průmyslu
  a prozkoumat možnosti partnerství\, investic a výměny znalostí\, kte
 ré by byly přínosem pro obě strany.\nCesta bude směřovat do Dauhá.
  \nPředběžný program mise (změny vyhrazeny):\n\nNeděle\, 22. 9. 202
 4 - Praha-DauháDopoledne - odlet z PrahyPodvečer - přílet do DauháPř
 esun do hotelu\, ubytování\nPondělí\, 23. 9. 2024 - DauháRáno - spol
 ečné snídaně s ministrem průmyslu a obchodu ČR Dopoledne - business
  fórum \nÚterý\, 24. 9. 2024 - DauháCelý den - možnost pro vlastní
  jednání/individuální schůzkyVečer - business večeře\nStředa\, 25
 . 9. 2024 - Dauhá-PrahaRáno - odlet z Dauhá do Prahy\n\nDalší program
  v jednání/bude doplňován a upřesňován a sdílen s účastníky.\nZ
 álohová cena za účast v podnikatelské delegaci je 49.000\,- Kč vče
 tně DPH (pro členy Svazu průmyslu a dopravy ČR platí cena 40.000\,- K
 č). Obsah účastnického balíčku je rozepsán v přihlášce.\nV pří
 padě zájmu o účast Vás prosíme o následující:\n\nVyplnění a pod
 epsání závazné přihlášky\, její naskenování a zaslání e-maile
 m na adresu mnatafalusi@spcr.cz nejpozději do 27. srpna 2024 do 17:00 h
 od.\nSoučasně s přihláškou je nutné vyplnit i elektronický formul
 ář\, který obsahuje informace nezbytné pro Vaše uvedení v katalogu 
 podnikatelské mise\, vyhledání vhodných partnerů pro B2B networking\,
  ale i pro odbavení v letadle vládní letky či ubytování v hotelu.\nZ
 aslání skenu datové stránky vašeho pasu (platnost pasu min. 6 měs
 íců po návratu zpět do ČR).\nProsíme také o vyplnění jednoho vzo
 rového snímku v powerpointu do společné prezentace\, která může b
 ýt promítána v rámci networkingových akcí.\nZáslání profilové f
 otografie účastníka do připraveného katalogu firem (min. rozlišení
  500 Kb\, 600 x 800 pixelů)\n\nUpozorňujeme\, že bez vyplnění elektro
 nického formuláře nemůžeme Vaši přihlášku zpracovat. Výběr mís
 tních firem a partnerů pro networking bude probíhat na základě Vámi 
 dodaných profilů a informací o Vaší firmě v tomto elektronickém for
 muláři. Prosíme proto o co nejkonkrétnější upřesnění Vašich z
 ájmů.\nPři vyplňování profilu mějte prosím na paměti\, že slouž
 í také jako podklad pro výrobu prezentačního tištěného katalogu mi
 se\, jehož cílem je co nejlépe druhou stranu seznámit s profily a kont
 aktními údaji zúčastněných firem.\nPo obdržení Vaší závazné p
 řihlášky a provedení elektronické registrace Vám zašleme další po
 kyny a zálohovou fakturu na účastnický poplatek. Další podklady a in
 formace Vám budeme průběžně zasílat elektronickou poštou. Podnikat
 elskou misi organizačně zajišťuje manažer Sekce vnějších vztahů M
 artin Natafaluši (email: mnatafalusi@spcr.cz\, tel. 733 643 556).\nVzhl
 edem k omezené kapacitě prosíme o včasnou registraci. Pořadatelé si 
 vyhrazují právo odmítnout zájemce o účast s ohledem na vhodnost obor
 ového zaměření v případě převisu poptávky nad počtem míst v let
 adle. Děkujeme za pochopení.\nTěšíme se na Vaši účast a spoluprác
 i s Vámi.\n \n \nVíce o Kataru a obchodních příležitostech v tét
 o zemi najdete zde.\n
URL:https://www.spcr.cz/podnikatelska-mise-do-kataru
DTSTART:20240922T080000
DTEND:20240925T170000
LOCATION:
END:VEVENT
END:VCALENDAR
