BEGIN:VCALENDAR
PRODID:-//eluceo/ical//2.0/EN
VERSION:2.0
CALSCALE:GREGORIAN
BEGIN:VEVENT
UID:95c77ed96de6e8d18fc4f6dfb212283d
DTSTAMP:20260423T162732Z
SUMMARY:Představení ePodatelny Licenční správy
DESCRIPTION:Název akce: Představení ePodatelny Licenční správy\nURL: 
 https://www.spcr.cz/predstaveni-epodatelny-licencni-spravy\nPopis: \n\nLic
 enční správa Ministerstva průmyslu a obchodu zve podnikatelskou veřej
 nost provádějící zahraniční obchod s citlivými položkami podléha
 jící povolovacím a licenčním řízením na představení nově vybudo
 vané ePodatelny. Jedná se o nový elektronický systém pro podávání 
 žádostí o povolení a licence a podávání hlášení o jejich využit
 í\, který by měl být spuštěn 1. 7. 2024.\nRegistrace je nutná pouze
  pro fyzickou účast. Kapacita fyzické účasti na události je stanoven
 a na 120 osob. Událost bude probíhat také online formou prostřednictv
 ím MS Teams\, a to bez omezené kapacity. Odkaz na tuto událost bude zve
 řejněn v kalendáři akcí na webu Ministerstva průmyslu a obchodu.\nP
 rogram:\n\nÚvodní slovo\nZákladní informace o ePodatelně\nPředstaven
 í administračního prostředí ePodatelny\nZákladní informace o podáv
 ání žádostí o povolení a licence\nPostup pro podávání hlášení 
 o uskutečněných obchodech\nOtázky a odpovědi\n\nUdálost je určena p
 ro podnikatele\, kteří provádějí zahraniční obchod s vojenským ma
 teriálem\, civilními palnými zbraněmi a střelivem\, zbožím dvojího
  užití\, pyrotechnikou a mučicími nástroji.\nV případě velkého z
 ájmu si pořadatel vyhrazuje možnost omezit kapacitu na 2 zástupce za 1
  podnikatelský subjekt.\nVíce informací a link na registraci zde. \n
URL:https://www.spcr.cz/predstaveni-epodatelny-licencni-spravy
DTSTART:20240624T093000
DTEND:20240624T120000
LOCATION:
END:VEVENT
END:VCALENDAR
