BEGIN:VCALENDAR
PRODID:-//eluceo/ical//2.0/EN
VERSION:2.0
CALSCALE:GREGORIAN
BEGIN:VEVENT
UID:89af33b7fe01f63fb0442d298c62d48b
DTSTAMP:20260423T173246Z
SUMMARY: Vstup na trh USA a Mexika a jejich propojení očima exportérů
DESCRIPTION:Název akce:  Vstup na trh USA a Mexika a jejich propojení oč
 ima exportérů\nURL: https://www.spcr.cz/vstup-na-trh-usa-mexika-jejich-p
 ropojeni-ocima-exporteru\nPopis: \n\n19.6.2024\, 10:00 - 12:30\n\n\nNWT a.
 s.\, Zlín\, třída Tomáše Bati 269\n\n\n\n\n\n\n\n\nJedinečná příl
 ežitost poslechnout si cenné vstupy ředitelů zahraničních kancelář
 í CzechTrade v USA a Mexiku a zkušených exportérů do Severní Ameriky
 \nÚvodní blok - komentář ředitelů zahraničních kanceláří v Mexi
 ku a USA\nVýhody lokálního působení oproti exportu z ČR\, import a e
 xport mezi Mexikem a USA\nPanelová diskuze - působení v místě očima 
 úspěšného českého exportéra\nÚvodní překážky při zakládání
  pobočky\, nastavení logistických procesů\, přeshraniční prodej\nIn
 dividuální konzultace s řediteli zahraničních kanceláří CzechTrade
  USA a Mexiko\nVíce informací a registrace: zde\n
URL:https://www.spcr.cz/vstup-na-trh-usa-mexika-jejich-propojeni-ocima-expo
 rteru
DTSTART:20240619T100000
DTEND:20240619T123000
LOCATION:
END:VEVENT
END:VCALENDAR
