BEGIN:VCALENDAR
PRODID:-//eluceo/ical//2.0/EN
VERSION:2.0
CALSCALE:GREGORIAN
BEGIN:VEVENT
UID:8d7a99ce8b0049df4f0c4d39b12d636e
DTSTAMP:20260423T125530Z
SUMMARY:Jak uspět na exportních trzích SAE\, SA a Kataru
DESCRIPTION:Název akce: Jak uspět na exportních trzích SAE\, SA a Katar
 u\nURL: https://www.spcr.cz/jak-uspet-na-exportnich-trzich-sae-sa-kataru\n
 Popis: \n\n19.6.2024\, 13:00 - 16:00\n\n\nAdministrativní centrum Vinice 
 a.s.\, Pardubice\, K Vinici 1256\n\n\n\n\n\n\n\n\nSouhrnné informace - p
 ředstavení daných teritorií\nEkonomická situace a další předpoklá
 daný vývoj\nAktuální exportní možnosti ve Spojených arabských emir
 átech\, Saúdské Arábii a Kataru\nTipy pro úspěšné jednání s obch
 odními partnery - specifika daných trhů\nPlánované akce CzechTrade v 
 SAE\, SA a Kataru\nIndividuální konzultace s řediteli zahraničních ka
 nceláří CzechTrade\nVíce informací a registrace: zde\n
URL:https://www.spcr.cz/jak-uspet-na-exportnich-trzich-sae-sa-kataru
DTSTART:20240619T130000
DTEND:20240619T160000
LOCATION:
END:VEVENT
END:VCALENDAR
