BEGIN:VCALENDAR
PRODID:-//eluceo/ical//2.0/EN
VERSION:2.0
CALSCALE:GREGORIAN
BEGIN:VEVENT
UID:1e50f8c819136ed0e470ac7e1cdd869a
DTSTAMP:20260423T162622Z
SUMMARY: Cesta k úspěšné expanzi na trhy Egypta\, Maroka a Izraele
DESCRIPTION:Název akce:  Cesta k úspěšné expanzi na trhy Egypta\, Maro
 ka a Izraele\nURL: https://www.spcr.cz/cesta-k-uspesne-expanzi-na-trhy-egy
 pta-maroka-izraele\nPopis: \n\n18.6.2024\, 10:00 - 13:00\n\n\nRegionální
  centrum Olomouc\, Olomouc\, Jeremenkova 40b\n\n\n\n\n\n\n\n\nSouhrnné in
 formace o teritoriích a tipy na úspěšný export\nObchodní a kulturní
  zvyklosti\, vyhledávání a oslovení potenciálních obchodních partne
 rů\nSektorové příležitosti pro české podnikatele a praktické zkuš
 enosti\nPlánované akce a možnosti spolupráce se zahraničními kancel
 áři CzechTrade Egypt\, Maroko\, Izrael\nIndividuální konzultace s řed
 iteli zahraničních kanceláří CzechTrade Egypt\, Maroko\, Izrael\nVíc
 e informací a registrace: zde\n
URL:https://www.spcr.cz/cesta-k-uspesne-expanzi-na-trhy-egypta-maroka-izrae
 le
DTSTART:20240618T100000
DTEND:20240618T130000
LOCATION:
END:VEVENT
END:VCALENDAR
