BEGIN:VCALENDAR
PRODID:-//eluceo/ical//2.0/EN
VERSION:2.0
CALSCALE:GREGORIAN
BEGIN:VEVENT
UID:97d8f235b80257216b62ef928e3cbd06
DTSTAMP:20260423T145806Z
SUMMARY:Příležitosti pro české startupy a inovativní firmy v Austinu
DESCRIPTION:Název akce: Příležitosti pro české startupy a inovativní
  firmy v Austinu\nURL: https://www.spcr.cz/prilezitosti-pro-ceske-startupy
 -inovativni-firmy-v-austinu\nPopis: \n\n18.6.2024\, 10:00 - 11:30\n\n\nCze
 chTrade\, Praha 2\, Štepánská 15\n\n\n\n\n\n\n\n\nSeminář zaměřený
  na objevování příležitostí pro české startupy a inovativní firmy
  v texaském Austinu\nÚvod a představení inovačního ekosystému v Aus
 tinu\nPříležitosti pro české firmy v Austinu\nIndividuální konzulta
 ce s ředitelem zahraničních kanceláře CzechTrade USA - Austin\nRegist
 race a více informací zde\n
URL:https://www.spcr.cz/prilezitosti-pro-ceske-startupy-inovativni-firmy-v-
 austinu
DTSTART:20240618T100000
DTEND:20240618T113000
LOCATION:
END:VEVENT
END:VCALENDAR
