BEGIN:VCALENDAR
PRODID:-//eluceo/ical//2.0/EN
VERSION:2.0
CALSCALE:GREGORIAN
BEGIN:VEVENT
UID:014cfeeb108773293934f24937b33030
DTSTAMP:20260423T130810Z
SUMMARY:16th Food\, Agriculture and Livestock Asia International Trade Fair
  and Conference
DESCRIPTION:Název akce: 16th Food\, Agriculture and Livestock Asia Interna
 tional Trade Fair and Conference\nURL: https://www.spcr.cz/16th-food-agric
 ulture-and-livestock-asia-international-trade-fair-and-conference\nPopis: 
 \n\nRádi bychom Vás informovali o výstavě s názvem „16th Food\, Agr
 iculture and Livestock Asia International Trade Fair and Conference“\, k
 terá se koná v Láhauru od 9. do 11. srpna 2024. \nAkci spolupořádá F
 ederace komor of Commerce and Industry (FPCCI) a Ecommerce Gateway Pakista
 n Ltd (ECG). Organizátoři nabízejí prvním 100 zahraničních účastn
 íků zdarma místní pohostinství (pobyt v hotelu\, doprava a bezpečnos
 t). Další podrobnosti naleznete v přiložené brožuře.\n
URL:https://www.spcr.cz/16th-food-agriculture-and-livestock-asia-internatio
 nal-trade-fair-and-conference
DTSTART:20240809T000000
DTEND:20240811T235959
LOCATION:
END:VEVENT
END:VCALENDAR
