BEGIN:VCALENDAR
PRODID:-//eluceo/ical//2.0/EN
VERSION:2.0
CALSCALE:GREGORIAN
BEGIN:VEVENT
UID:c0c5960572766f23b5affb46124732e1
DTSTAMP:20260423T124800Z
SUMMARY:Tunisia Investment Forum
DESCRIPTION:Název akce: Tunisia Investment Forum\nURL: https://www.spcr.cz
 /tunisia-investment-forum\nPopis: \n\nRádi bychom Vás informovali\, že 
 Tuniská agentura na podporu zahraničních investic (FIPA) pod záštitou
  Ministerstva hospodářství a plánování a ve spolupráci s Evropskou 
 unií pořádá 21. ročník „Tunského investičního fóra“ ( TIF)\,
  který se bude konat 12. a 13. června 2024 v hotelu Ramada Plaza v Gamma
 rth v Tunisu. \nLetošního ročníku se zúčastní zejména pan Olivér 
 Várhelyi\, evropský komisař sousedsví a pan Ioannis Tsakiris\, vicepre
 zident Evropské investiční banky. \nV rámci působivého tématu „Tu
 nisko: kde se udržitelnost setkává s příležitostí“ se fórum zam
 ěří na potenciál tuniské ekonomiky pro inovace a udržitelné investi
 ce. Fórum se zaměřuje na čtyři vysoce hodnotná odvětví – automob
 ilové součástky\, farmaceutika\, obnovitelné energie\, startupy a dias
 pora – snaží se představit Tunisko jako úrodnou půdu pro investice 
 a udržitelný růst. Další podrobnosti o fóru\, programu a způsobu ú
 časti jsou k dispozici na následujících webových stránkách: https:/
 /www.tunisiainvestmentforum.tn/ nebo https://inscription.tif2024.com/\n
URL:https://www.spcr.cz/tunisia-investment-forum
DTSTART:20240612T000000
DTEND:20240613T235959
LOCATION:
END:VEVENT
END:VCALENDAR
