BEGIN:VCALENDAR
PRODID:-//eluceo/ical//2.0/EN
VERSION:2.0
CALSCALE:GREGORIAN
BEGIN:VEVENT
UID:bd1aa2dfe7bdc6a1df321d2710873411
DTSTAMP:20260423T162820Z
SUMMARY:Česko-emirátské podnikatelské fórum
DESCRIPTION:Název akce: Česko-emirátské podnikatelské fórum\nURL: htt
 ps://www.spcr.cz/cesko-emiratske-podnikatelske-forum\nPopis: \n\nSvaz prů
 myslu a dopravy České republiky ve spolupráci s Ministerstvem průmyslu
  a obchodu České republiky\, Velvyslanectvím České republiky v Abú D
 habí\, CzechInvestem a Sdružením pro zahraniční investice (AFI) si v
 ás dovoluje pozvat na Česko-emirátské podnikatelské fórum\, které s
 e bude konat 14. 6. 2024 v budově Ministerstva průmyslu a obchodu ČR (N
 a Františku 32\, 115 00 Praha 1) od 11:00 hod. do 13:00 hod.Česko-emirá
 tské podnikatelské fórum se bude konat v souvislosti s oficiální náv
 štěvou státního ministra pro zahraniční obchod Spojených arabských
  emirátů\, J.E. Thani bin Ahmed Al Zeyoudi\, při příležitosti 1. zas
 edání Česko-emirátské mezivládní smíšené komise pro hospodářsk
 ou spolupráci na Ministerstvu průmyslu a obchodu.V rámci programu budet
 e mít možnost setkat se s emirátskými firmami primárně z oborů obno
 vitelských zdrojů\, vodohospodářství\, obranného a leteckého průmy
 slu\, energetiky\, investic a lázeňství. Program fóra zahájí J.E. Jo
 zef Síkela\, ministr průmyslu a obchodu ČR\, a zástupci Svazu průmysl
 u a dopravy ČR a Hospodářské komory ČR\, CzechInvestu a Sdružení pr
 o zahraniční investice (AFI).Registrace na podnikatelské fórum proveď
 te co možno nejdříve na tomto linku: https://docs.google.com/forms/d/e
 /1FAIpQLSdzSbr-vS3i5EbyMW5iqs2DQpWyKqrodlF5uJEc4vF56QA5JA/viewform\nJednac
 ím jazykem bude angličtina. Těšíme se na Vaši účast!\n
URL:https://www.spcr.cz/cesko-emiratske-podnikatelske-forum
DTSTART:20240614T110000
DTEND:20240614T130000
LOCATION:
END:VEVENT
END:VCALENDAR
