BEGIN:VCALENDAR
PRODID:-//eluceo/ical//2.0/EN
VERSION:2.0
CALSCALE:GREGORIAN
BEGIN:VEVENT
UID:c3ee7d9c2eff2f1aed6d229b414ecac8
DTSTAMP:20260423T124759Z
SUMMARY:14. ročník konference Pride Business Fóra
DESCRIPTION:Název akce: 14. ročník konference Pride Business Fóra\nURL:
  https://www.spcr.cz/14-rocnik-konference-pride-business-fora\nPopis: \n\n
 V rámci 14. ročníku konference Pride Business Fóra o rovnosti na praco
 višti\, letos s podtitulem Networks of Support\, se dozvíte trendy nejen
  z oblasti diverzity\, získáte také potřebné informace pro to\, aby i
  vaše pracoviště mohlo být inkluzivní pro všechny zaměstnance*kyně
 .\nPorobný program a registrace najdete na webu konference.\n\nSvaz prům
 yslu a dopravy ČR poskytnul konferenci záštitu.\n
URL:https://www.spcr.cz/14-rocnik-konference-pride-business-fora
DTSTART:20240617T090000
DTEND:20240617T180000
LOCATION:
END:VEVENT
END:VCALENDAR
