BEGIN:VCALENDAR
PRODID:-//eluceo/ical//2.0/EN
VERSION:2.0
CALSCALE:GREGORIAN
BEGIN:VEVENT
UID:c8580e9efbb512c8552f80c81c524239
DTSTAMP:20260423T124858Z
SUMMARY:Ghana-EU Business Forum
DESCRIPTION:Název akce: Ghana-EU Business Forum\nURL: https://www.spcr.cz/
 ghana-eu-business-forum\nPopis: \n\nDovolujeme si Vám předat informaci M
 PO o připravovaném  Ghana-EU Business Forum\, se zaměřením na násle
 dující sektory: ICT a digitální transformace\, obnovitelná energie\, 
 agrobusiness\, automotive\, farmacie a zdravotnictví\, textil a oděvy.\n
 \nÚstředním tématem fóra je "Fostering an investment in non-tradition
 al value chains under the EU Global Gateway Strategy". Součástí program
 u budou konference\, výstavy a příležitost k navazování kontaktů.\n
 Business fórum proběhne v Akkře ve dnech 3. - 4. července 2024. \nDa
 lší informace a možnost registrace zde. \n
URL:https://www.spcr.cz/ghana-eu-business-forum
DTSTART:20240703T000000
DTEND:20240704T235959
LOCATION:
END:VEVENT
END:VCALENDAR
