BEGIN:VCALENDAR
PRODID:-//eluceo/ical//2.0/EN
VERSION:2.0
CALSCALE:GREGORIAN
BEGIN:VEVENT
UID:97d12e1ba9bc4f9871799cc0440b693a
DTSTAMP:20260423T145924Z
SUMMARY:Česko na křižovatce: vize a strategie na 30 let
DESCRIPTION:Název akce: Česko na křižovatce: vize a strategie na 30 let
 \nURL: https://www.spcr.cz/cesko-na-krizovatce-vize-strategie-na-30-let\nP
 opis: \n\nSP ČR vás zve na konferenci o strategických krocích pro úsp
 ěšné a konkurenceschopné Česko.\nPodrobný program a registraci najde
 te na webu konference.\n
URL:https://www.spcr.cz/cesko-na-krizovatce-vize-strategie-na-30-let
DTSTART:20240612T090000
DTEND:20240612T150000
LOCATION:
END:VEVENT
END:VCALENDAR
