BEGIN:VCALENDAR
PRODID:-//eluceo/ical//2.0/EN
VERSION:2.0
CALSCALE:GREGORIAN
BEGIN:VEVENT
UID:4c63479d87ffaf327100780487778e3c
DTSTAMP:20260424T011505Z
SUMMARY:Contact Ukraine 2.0
DESCRIPTION:Název akce: Contact Ukraine 2.0\nURL: https://www.spcr.cz/cont
 act-ukraine-20\nPopis: \n\nV příloze najdete “Save the Date” s pozv
 ánkou na nadcházející akci Contact Ukraine 2.0 při veletrhu URBIS v B
 rně.\n
URL:https://www.spcr.cz/contact-ukraine-20
DTSTART:20240604T090000
DTEND:20240606T170000
LOCATION:
END:VEVENT
END:VCALENDAR
