BEGIN:VCALENDAR
PRODID:-//eluceo/ical//2.0/EN
VERSION:2.0
CALSCALE:GREGORIAN
BEGIN:VEVENT
UID:648a2fe9e7b074d196c14ddc56d623b3
DTSTAMP:20260423T125530Z
SUMMARY:Seventh EU-Ukraine Civil Society Forum under the DCFTA
DESCRIPTION:Název akce: Seventh EU-Ukraine Civil Society Forum under the D
 CFTA\nURL: https://www.spcr.cz/seventh-eu-ukraine-civil-society-forum-unde
 r-dcfta\nPopis: \n\nThe 7th EU-Ukraine Civil Society Forum will take place
  in virtual format on 13 June 2024.\n\n\n\n\n\n\n\n\n\n\n\n\n\n\nCivil soc
 iety representatives from labour and business organisations\, environmenta
 l groups\, and other civil society organisations from the EU and from Ukra
 ine are invited to join\, and to exchange with one another\, and with offi
 cials from the European Commission and from the Government of Ukraine\, on
  matters related to the implementation of the Trade and Sustainable Develo
 pment provisions of the Deep and Comprehensive Free Trade Agreement (DCFTA
 ).\nMore information about the event can be found here. \n
URL:https://www.spcr.cz/seventh-eu-ukraine-civil-society-forum-under-dcfta
DTSTART:20240613T100000
DTEND:20240613T120000
LOCATION:
END:VEVENT
END:VCALENDAR
