BEGIN:VCALENDAR
PRODID:-//eluceo/ical//2.0/EN
VERSION:2.0
CALSCALE:GREGORIAN
BEGIN:VEVENT
UID:e177c482f0c2a825634364dcbcb799c8
DTSTAMP:20260423T150253Z
SUMMARY:Balcan Economic Forum
DESCRIPTION:Název akce: Balcan Economic Forum\nURL: https://www.spcr.cz/ba
 lcan-economic-forum\nPopis: \n\nDovolujeme si Vás pozvat na třetí ročn
 ík Balkánského Ekonomického fóra 2024\, který proběhně 18. 10. 202
 4 v Záhřebu. Akce je organizována pod záštitou Central European Ini
 tiative as CEI Flagship Event for the year 2024. \nKonference bude rozdě
 lena do 4 samostatných panelů zabývajících se 4 cíli SEI:\n- Stimulo
 vat zelený růst (odkaz: strany 21 až 30 dokumentu: Akční plán SEI 20
 21 - 2023)\n-Podpora oběhového hospodářství\n- Výzvy při podpoře i
 novací a podnikání \n- Odolnost vůči klimatu: zvládání výzev a od
 emykání příležitostí \n- Podpora čisté energie\nVíce informací v
  propagačním letáčku nebo na oficiálních webových stránkách akce.
 \nV případě dotazů se obraťte na email: kjosevsasho@gmail.com\n
URL:https://www.spcr.cz/balcan-economic-forum
DTSTART:20241018T000000
DTEND:20241018T235959
LOCATION:
END:VEVENT
END:VCALENDAR
