BEGIN:VCALENDAR
PRODID:-//eluceo/ical//2.0/EN
VERSION:2.0
CALSCALE:GREGORIAN
BEGIN:VEVENT
UID:d4315a7e263ea40b4dcd25543bf33327
DTSTAMP:20260423T193055Z
SUMMARY:International Coffee\, Pastry and Bakery Exhibition
DESCRIPTION:Název akce: International Coffee\, Pastry and Bakery Exhibitio
 n\nURL: https://www.spcr.cz/international-coffee-pastry-and-bakery-exhibit
 ion\nPopis: \n\nDovolujeme si Vám předat pozvání Tuniské ambasády v 
 Praze na druhý ročník mezinárodního veletrhu kávy\, pečiva a pekař
 ství\, který se bude konat od 1. do 5. října 2024 na výstavišti Kram
  Tunis v Tunisku. \nCílem této akce je spojit tuniské a mezinárodní a
 ktéry v odvětví kávy\, pečiva a pekařství s cílem rozvíjet obchod
 ní vztahy v kreativním a inovativním rámci. \nBěhem výstavy proběhn
 ou semináře\, workshopy a přednášky\, které představí nejnovějš
 í technologie v tomto odvětví\, jejichž cílem bude výměna zkušenos
 tí\, prozkoumání nejnovějších trendů\, sdílení osvědčených pos
 tupů a navázání partnerství.\nPřípadné dotazy směřujte na email:
  Info@leprintempsducafetunisie.com\nVice informací zde. \n
URL:https://www.spcr.cz/international-coffee-pastry-and-bakery-exhibition
DTSTART:20241001T000000
DTEND:20241005T235959
LOCATION:
END:VEVENT
END:VCALENDAR
