BEGIN:VCALENDAR
PRODID:-//eluceo/ical//2.0/EN
VERSION:2.0
CALSCALE:GREGORIAN
BEGIN:VEVENT
UID:feee570322388accb80bf3fd1383deea
DTSTAMP:20260423T150132Z
SUMMARY:road2expo
DESCRIPTION:Název akce: road2expo\nURL: https://www.spcr.cz/road2expo\nPop
 is: \n\nKrajská konference road2expo byla z vážných rodinných důvo
 du komisáře pro EXPO 2025 Ondřeje Sošky přesunuta na podzim.\nPřesn
 ý termín konání konference bude zveřejněn hned\, jak to bude možné
 . \nDěkujeme za pochopení a omlouváme se za případné komplikace.\n
URL:https://www.spcr.cz/road2expo
DTSTART:20240530T090000
DTEND:20240530T150000
LOCATION:
END:VEVENT
END:VCALENDAR
