BEGIN:VCALENDAR
PRODID:-//eluceo/ical//2.0/EN
VERSION:2.0
CALSCALE:GREGORIAN
BEGIN:VEVENT
UID:a6f362511b1bec1d51206de23df338ec
DTSTAMP:20260423T145913Z
SUMMARY:Webinář: Jak využít výhody plynoucí z dohody o volném obchod
 u mezi EU a Novým Zélandem?
DESCRIPTION:Název akce: Webinář: Jak využít výhody plynoucí z dohody
  o volném obchodu mezi EU a Novým Zélandem?\nURL: https://www.spcr.cz/w
 ebinar-jak-vyuzit-vyhody-plynouci-z-dohody-o-volnem-obchodu-mezi-eu-novym-
 zelandem\nPopis: \n\nSvaz průmyslu a dopravy ČR by vás rád pozval na i
 nformační webinář s názvem Jak využít výhody plynoucí z dohody o 
 volném obchodu mezi EU a Novým Zélandem?\, který organizuje Ministerst
 vo průmyslu a obchodu ČR.\nDne 1. 5. 2024 vstoupila v platnost Dohoda o 
 volném obchodu mezi EU a Novým Zélandem. Ministerstvo průmyslu a obcho
 du ČR u této příležitosti spolu s partnery pořádá dne 29. 5. 2024 
 od 10:00 hod. webinář zaměřený na výhody\, které z dohody vyplývaj
 í pro Česko a české firmy.\nÚčast podléhá registraci prostřednict
 vím e-mailu na adrese: mullerova@mpo.cz a je možná do 27. 5. 2024. V n
 ávaznosti na Vaši registraci Vám bude den předem zaslán odkaz k přip
 ojení na webinář. \nBližší informace o webináři se dozvíte v př
 iložených materiálech zde a zde. \nV případě jakýchkoli souvisejíc
 ích dotazů se na nás neváhejte obrátit: mullerova@mpo.cz nebo mnata
 falusi@spcr.cz \n
URL:https://www.spcr.cz/webinar-jak-vyuzit-vyhody-plynouci-z-dohody-o-volne
 m-obchodu-mezi-eu-novym-zelandem
DTSTART:20240529T100000
DTEND:20240529T120000
LOCATION:
END:VEVENT
END:VCALENDAR
