BEGIN:VCALENDAR
PRODID:-//eluceo/ical//2.0/EN
VERSION:2.0
CALSCALE:GREGORIAN
BEGIN:VEVENT
UID:12b231786f51ade8e453a9afcdb7e034
DTSTAMP:20260423T162941Z
SUMMARY:Seminář s delegací z Kazachstánu
DESCRIPTION:Název akce: Seminář s delegací z Kazachstánu\nURL: https:/
 /www.spcr.cz/seminar-s-delegaci-z-kazachstanu\nPopis: \n\nDovolujeme si v
 ás pozvat na seminář v rámci incomingové mise z Kazachstánu a Kyrgys
 tánu\, kterí organizuje Česká komora pro obchod se státy Východní E
 urópy a Střední Asie ve spolupráci s Ministerstvem průmyslu a obchodu
  ČR. V podnikatelské delegaci z Kazachstánu a Kyrgystánu jsou zástup
 ci oblastních a místních administrací\, zabývající se problematikou
  chytrých technologií v oblasti městských služeb a využití vodní e
 nergie.\nSeminář se uskuteční v pondělí\, 27. 5. 2024 v budově Min
 isterstva průmyslu a obchodu ČR\, ul. Politických vězňů 20\, Praha 1
 .\nZahájení semináře bude v 08.30 hodin (registrace od 08.00 hodin.)\
 nV rámci semináře vystoupí:\nVáclav Lídl – moderátor\, vedoucí 
 oddělení MPO ČR\nDavid Müller – vrchní ředitel Sekce EU a ZO MPO 
 ČR\nFrantišek Masopust – předseda představenstva Komory VE&SA\nMicha
 l Neumann – Market connect\nVratislav Datel – DATAB consult s.r.o.\nVl
 adimír Glas – StemCon a.s.\n \nNásledně budete mít možnost kontakt
 ů B2B s vystupujícími a členy delegace (viz příloha).\nJednací jaz
 yk český a ruský s tlumočením.\nNa semináři bude zajištěno drobn
 é občerstvení.\nZájemci o účast na semináři se mohou hlásit do 23
 . 5. zasláním vyplněné přihlášky na e-mail masopust@komorasns.cz\n
 Budeme se těšit na setkání s vámi a věřím\, že řada vašich fir
 em má v problematice Smart Cities co nabídnout!\n
URL:https://www.spcr.cz/seminar-s-delegaci-z-kazachstanu
DTSTART:20240527T083000
DTEND:20240527T120000
LOCATION:
END:VEVENT
END:VCALENDAR
