BEGIN:VCALENDAR
PRODID:-//eluceo/ical//2.0/EN
VERSION:2.0
CALSCALE:GREGORIAN
BEGIN:VEVENT
UID:33cce0ce4aba1719815800b36d51beb1
DTSTAMP:20260423T125316Z
SUMMARY:3. ROČNÍK KONFERENCE DESIGN PRO BUSINESS
DESCRIPTION:Název akce: 3. ROČNÍK KONFERENCE DESIGN PRO BUSINESS\nURL: h
 ttps://www.spcr.cz/3-rocnik-konference-design-pro-business\nPopis: \n\nZVE
 ME VÁS NA 3. ROČNÍK KONFERENCE DESIGN PRO BUSINESS\, který je zaměř
 ený na využívání moderních technologií v průmyslovém designu.\nZa
 jímá vás\, jak umělá inteligence a moderní technologie transformují
  svět designu\, vzdělávání a autorského práva?\nPřijďte se inspir
 ovat a načerpat know-how na konferenci\, kterou pro Vás připravilo Desi
 gn Centrum CzechTrade a Exportní vzdělávání.Na konferenci vám spole
 čně se špičkami z oblasti AI a inovací představíme aktuální trend
 y v designu a jejich přínos pro business.Zjistíte\, jak správně využ
 ít AI v marketingu v souladu s autorským právem\, jak využívá mmcit
 é 3D tisk pro výrobu finálních produktů. Dozvíte se\, jak designéř
 i křišťálových svítidel a světelných instalací pro značku Precio
 sa využívají AI ve své práci a jak současné možnosti AI v procesu 
 navrhování produktů testovali studenti Ateliéru průmyslového designu
  UMPRUM. Ateliér Architektura III představí výzkum alternativního sta
 vebního materiálu a jeho využití za pomoci digitálního designu a rob
 otické výroby.\nVíce informací k programu včetně registrace naleznet
 e zde. \n
URL:https://www.spcr.cz/3-rocnik-konference-design-pro-business
DTSTART:20240606T100000
DTEND:20240606T143000
LOCATION:
END:VEVENT
END:VCALENDAR
